BEGIN:VCALENDAR
VERSION:2.0
PRODID:-//ChamberMaster//Event Calendar 2.0//EN
METHOD:PUBLISH
X-PUBLISHED-TTL:P3D
REFRESH-INTERVAL:P3D
CALSCALE:GREGORIAN
BEGIN:VEVENT
DTSTART:20211110T223000Z
DTEND:20211110T233000Z
X-MICROSOFT-CDO-ALLDAYEVENT:FALSE
SUMMARY:Veterans Day Presentation at Holly Rood
DESCRIPTION:You're invited to celebrate Veterans Day with Holly Rood! The JROTC will start us out in the front lawn with a flag presentation followed by "The Star Spangled Banner" by singer Jim Cowan. Directly following we will enter the parlor where decorated veteran and local historian\, Colonel Jerry Cecil will be giving a presentation. This event will end with a round of refreshments. Hope you can join us!
X-ALT-DESC;FMTTYPE=text/html:<span style="color: rgb(5\, 5\, 5)\; font-family: &quot\;Segoe UI Historic&quot\;\, &quot\;Segoe UI&quot\;\, Helvetica\, Arial\, sans-serif\; font-size: 15px\; white-space: pre-wrap\; background-color: rgb(255\, 255\, 255)\;">You&rsquo\;re invited to celebrate Veterans Day with </span><span style="font-family: &quot\;Segoe UI Historic&quot\;\, &quot\;Segoe UI&quot\;\, Helvetica\, Arial\, sans-serif\; color: rgb(5\, 5\, 5)\; font-size: 15px\; white-space: pre-wrap\; background-color: rgb(255\, 255\, 255)\; animation-name: none !important\; transition-property: none !important\;"><a class="oajrlxb2 g5ia77u1 qu0x051f esr5mh6w e9989ue4 r7d6kgcz rq0escxv nhd2j8a9 nc684nl6 p7hjln8o kvgmc6g5 cxmmr5t8 oygrvhab hcukyx3x jb3vyjys rz4wbd8a qt6c0cv9 a8nywdso i1ao9s8h esuyzwwr f1sip0of lzcic4wl q66pz984 gpro0wi8 b1v8xokw" href="https://www.facebook.com/hollyrood1814/?__cft__[0]=AZULYP1rzw4u0Yui85Vu6maaHKeJm-OEFn2VLHxilGR2XiJdtFML7eGYCCRU6wgvf6nl8Zr5q5rdvix5q3OxjXhTxLOxByaOKtnJIAywC6el5bTNd-fxqy4UyFOkyvlz5OZodSZDny5ZczqzYMn_TBNT4D3YmLxdJPVxTcMd9maoFbcjvKlUeEHK_F0U556K7QI&amp\;__tn__=kK-R" role="link" style="cursor: pointer\; text-decoration-line: none\; outline: none\; list-style: none\; border-width: 0px\; border-style: initial\; border-color: initial\; padding: 0px\; margin: 0px\; touch-action: manipulation\; background-color: transparent\; text-align: inherit\; display: inline\; -webkit-tap-highlight-color: transparent\; box-sizing: border-box\; font-family: inherit\; animation-name: none !important\; transition-property: none !important\;" tabindex="0"><span class="nc684nl6" style="display: inline\; animation-name: none !important\; transition-property: none !important\; font-family: inherit\;">Holly Rood</span></a></span><span style="color: rgb(5\, 5\, 5)\; font-family: &quot\;Segoe UI Historic&quot\;\, &quot\;Segoe UI&quot\;\, Helvetica\, Arial\, sans-serif\; font-size: 15px\; white-space: pre-wrap\; background-color: rgb(255\, 255\, 255)\;">! The JROTC will start us out in the front lawn with a flag presentation followed by &ldquo\;The Star Spangled Banner&rdquo\; by singer Jim Cowan. Directly following we will enter the parlor where decorated veteran and local historian\, Colonel Jerry Cecil will be giving a presentation. This event will end with a round of refreshments. Hope you can join us!</span>
LOCATION:Holly Rood/ Clark Mansion 28 Beckner Street WInchester KY 40391
UID:e.1926.19283
SEQUENCE:3
DTSTAMP:20260426T023710Z
URL:https://business.winchesterkychamber.com/events/details/veterans-day-presentation-at-holly-rood-19283
END:VEVENT

END:VCALENDAR
