BEGIN:VCALENDAR
VERSION:2.0
PRODID:-//ChamberMaster//Event Calendar 2.0//EN
METHOD:PUBLISH
X-PUBLISHED-TTL:P3D
REFRESH-INTERVAL:P3D
CALSCALE:GREGORIAN
BEGIN:VEVENT
DTSTART:20241014T220000Z
DTEND:20241014T230000Z
X-MICROSOFT-CDO-ALLDAYEVENT:FALSE
SUMMARY:Teen Student Council Meeting
DESCRIPTION:Join us as we give feedback and brainstorm ideas for library programs. Pizza will be provided!
X-ALT-DESC;FMTTYPE=text/html:Join us as we give feedback and brainstorm ideas for library programs. Pizza will be provided!
LOCATION:Clark County Public Library 370 S Burns Ave Winchester\, KY
UID:e.1926.24461
SEQUENCE:3
DTSTAMP:20260425T211641Z
URL:https://business.winchesterkychamber.com/events/details/teen-student-council-meeting-10-14-2024-24461
END:VEVENT

END:VCALENDAR
