BEGIN:VCALENDAR
VERSION:2.0
PRODID:-//ChamberMaster//Event Calendar 2.0//EN
METHOD:PUBLISH
X-PUBLISHED-TTL:P3D
REFRESH-INTERVAL:P3D
CALSCALE:GREGORIAN
BEGIN:VEVENT
DTSTART:20211120T000000Z
DTEND:20211120T030000Z
X-MICROSOFT-CDO-ALLDAYEVENT:FALSE
SUMMARY:Southern Daze Live at DJ's
DESCRIPTION:Southern Daze Live at DJ's!
X-ALT-DESC;FMTTYPE=text/html:Southern Daze Live at DJ&#39\;s!
LOCATION:DJ's Steakhouse 836 Bypass Road Winchester KY 40391
UID:e.1926.19209
SEQUENCE:3
DTSTAMP:20260426T041017Z
URL:https://business.winchesterkychamber.com/events/details/southern-daze-live-at-dj-s-19209
END:VEVENT

END:VCALENDAR
