BEGIN:VCALENDAR
VERSION:2.0
PRODID:-//ChamberMaster//Event Calendar 2.0//EN
METHOD:PUBLISH
X-PUBLISHED-TTL:P3D
REFRESH-INTERVAL:P3D
CALSCALE:GREGORIAN
BEGIN:VEVENT
DTSTART:20211112T170000Z
DTEND:20211217T170000Z
X-MICROSOFT-CDO-ALLDAYEVENT:FALSE
SUMMARY:Shop with a Cop
DESCRIPTION:Shop with a Cop is a great way to give back to the Clark County Community. Your donation will help make Christmas a little brighter for the needy children of our community.
X-ALT-DESC;FMTTYPE=text/html:Shop with a Cop is a great way to give back to the Clark County Community. Your donation will help make Christmas a little brighter for the needy children of our community.
LOCATION:Sherriff Department 17 Cleveland Avenue
UID:e.1926.19294
SEQUENCE:3
DTSTAMP:20260426T023509Z
URL:https://business.winchesterkychamber.com/events/details/shop-with-a-cop-19294
END:VEVENT

END:VCALENDAR
