BEGIN:VCALENDAR
VERSION:2.0
PRODID:-//ChamberMaster//Event Calendar 2.0//EN
METHOD:PUBLISH
X-PUBLISHED-TTL:P3D
REFRESH-INTERVAL:P3D
CALSCALE:GREGORIAN
BEGIN:VEVENT
DTSTART:20211122T223000Z
DTEND:20211123T013000Z
X-MICROSOFT-CDO-ALLDAYEVENT:FALSE
SUMMARY:Santa’s Workshop
DESCRIPTION:Santa's Workshop will be located in front of the Clark County Courthouse.  The Courthouse is located at 34 South Main Street.  Kiddos can drop off their letters to Santa!  Santa will read the letters on WWKY 102.9 FM or 990 AM during the month of December.
X-ALT-DESC;FMTTYPE=text/html:Santa&rsquo\;s Workshop will be located in front of the Clark County Courthouse.&nbsp\; The Courthouse is located at 34 South Main Street.&nbsp\; Kiddos can drop off their letters to Santa!&nbsp\; Santa will read the letters on WWKY 102.9 FM or 990 AM during the month of December.
LOCATION:Clark County Courthouse 34 South Main Street Winchester KY 40391
UID:e.1926.19282
SEQUENCE:3
DTSTAMP:20260426T023925Z
URL:https://business.winchesterkychamber.com/events/details/santa-s-workshop-19282
END:VEVENT

END:VCALENDAR
