BEGIN:VCALENDAR
VERSION:2.0
PRODID:-//ChamberMaster//Event Calendar 2.0//EN
METHOD:PUBLISH
X-PUBLISHED-TTL:P3D
REFRESH-INTERVAL:P3D
CALSCALE:GREGORIAN
BEGIN:VEVENT
DTSTART;VALUE=DATE:20230825
DTEND;VALUE=DATE:20230826
TRANSP:TRANSPARENT
X-MICROSOFT-CDO-ALLDAYEVENT:TRUE
SUMMARY:Ribbon Cutting: Best Donuts! Friday\, the 25th at 12noon
DESCRIPTION:Join us for a Ribbon Cutting for Best Donuts!
X-ALT-DESC;FMTTYPE=text/html:Join us for a Ribbon Cutting for Best Donuts!
LOCATION:49 North Maple Street Winchester\, KY
UID:e.1926.23219
SEQUENCE:3
DTSTAMP:20260423T093421Z
URL:https://business.winchesterkychamber.com/events/details/ribbon-cutting-best-donuts-friday-the-25th-at-12noon-23219
END:VEVENT

END:VCALENDAR
