BEGIN:VCALENDAR
VERSION:2.0
PRODID:-//ChamberMaster//Event Calendar 2.0//EN
METHOD:PUBLISH
X-PUBLISHED-TTL:P3D
REFRESH-INTERVAL:P3D
CALSCALE:GREGORIAN
BEGIN:VEVENT
DTSTART:20241009T180000Z
DTEND:20241009T200000Z
X-MICROSOFT-CDO-ALLDAYEVENT:FALSE
SUMMARY:Movies @ The Library: The Innocents
DESCRIPTION:Refreshments provided!
X-ALT-DESC;FMTTYPE=text/html:Refreshments provided!<br />\n&nbsp\;
LOCATION:Clark County Public Library 370 S Burns Ave Winchester\, KY
UID:e.1926.24445
SEQUENCE:3
DTSTAMP:20260425T211538Z
URL:https://business.winchesterkychamber.com/events/details/movies-the-library-the-innocents-24445
END:VEVENT

END:VCALENDAR
