BEGIN:VCALENDAR
VERSION:2.0
PRODID:-//ChamberMaster//Event Calendar 2.0//EN
METHOD:PUBLISH
X-PUBLISHED-TTL:P3D
REFRESH-INTERVAL:P3D
CALSCALE:GREGORIAN
BEGIN:VEVENT
DTSTART:20241018T133000Z
DTEND:20241018T143000Z
X-MICROSOFT-CDO-ALLDAYEVENT:FALSE
SUMMARY:Special Event Planning Team Meeting
DESCRIPTION:Event Planning
X-ALT-DESC;FMTTYPE=text/html:Event Planning
LOCATION:Chamber Office
UID:e.1926.18869
SEQUENCE:3
DTSTAMP:20260425T210712Z
URL:https://business.winchesterkychamber.com/events/details/member-services-10-18-2024-18869
END:VEVENT

END:VCALENDAR
