BEGIN:VCALENDAR
VERSION:2.0
PRODID:-//ChamberMaster//Event Calendar 2.0//EN
METHOD:PUBLISH
X-PUBLISHED-TTL:P3D
REFRESH-INTERVAL:P3D
CALSCALE:GREGORIAN
BEGIN:VEVENT
DTSTART:20211120T150000Z
DTEND:20211120T180000Z
X-MICROSOFT-CDO-ALLDAYEVENT:FALSE
SUMMARY:LONG Hike at Lower Howards Creek
DESCRIPTION:We'll visit various historic sites in the Preserve and take the inner loop on this 3-hour hike where stop at the overlook to take in the views. This hike is strenuous\, but there will be rest opportunities\, and begins at the Main Entrance (0.7 mile north of Hall's on the River on Athens-Boonesboro Rd.). Pets are not permitted on state nature preserves. Contact 859- 806-2466 with questions.\n\nRegistration is required for each participant.\n\nPLEASE NOTE: We will social distance on the hike. Participants must bring a mask and be prepared to wear it if we are in an area where social distancing is difficult.
X-ALT-DESC;FMTTYPE=text/html:<div class="kvgmc6g5 cxmmr5t8 oygrvhab hcukyx3x c1et5uql" style="box-sizing: inherit\; color: rgb(64\, 64\, 64)\; font-family: &quot\;Nunito Sans&quot\;\; font-size: 16px\; background-color: rgb(243\, 234\, 228)\;">We&rsquo\;ll visit various historic sites in the Preserve and take the inner loop on this 3-hour hike where stop at the overlook to take in the views. This hike is strenuous\, but there will be rest opportunities\, and begins at the Main Entrance (0.7 mile north of Hall&rsquo\;s on the River on Athens-Boonesboro Rd.). Pets are not permitted on state nature preserves. Contact 859- 806-2466 with questions.</div>\n\n<div class="o9v6fnle cxmmr5t8 oygrvhab hcukyx3x c1et5uql" style="box-sizing: inherit\; color: rgb(64\, 64\, 64)\; font-family: &quot\;Nunito Sans&quot\;\; font-size: 16px\; background-color: rgb(243\, 234\, 228)\;">Registration is required for each participant.</div>\n\n<div class="o9v6fnle cxmmr5t8 oygrvhab hcukyx3x c1et5uql" style="box-sizing: inherit\; color: rgb(64\, 64\, 64)\; font-family: &quot\;Nunito Sans&quot\;\; font-size: 16px\; background-color: rgb(243\, 234\, 228)\;">PLEASE NOTE: We will social distance on the hike. Participants must bring a mask and be prepared to wear it if we are in an area where social distancing is difficult.</div>\n
LOCATION:Lower Howards Creek Nature Preserve 1945 Athens Boonesboro Rd Winchester KY 40391
UID:e.1926.19300
SEQUENCE:3
DTSTAMP:20260426T023611Z
URL:https://business.winchesterkychamber.com/events/details/long-hike-at-lower-howards-creek-19300
END:VEVENT

END:VCALENDAR
