BEGIN:VCALENDAR
VERSION:2.0
PRODID:-//ChamberMaster//Event Calendar 2.0//EN
METHOD:PUBLISH
X-PUBLISHED-TTL:P3D
REFRESH-INTERVAL:P3D
CALSCALE:GREGORIAN
BEGIN:VEVENT
DTSTART:20230827T190000Z
DTEND:20230827T220000Z
X-MICROSOFT-CDO-ALLDAYEVENT:FALSE
SUMMARY:Live Music with Lauren Mink and Dale Adams
DESCRIPTION:Free live music at the Vineyard during Sangria Sunday!
X-ALT-DESC;FMTTYPE=text/html:Free live music at the Vineyard during Sangria Sunday!
LOCATION:Harkness Edwards Vineyards 5199 Combs Ferry Rd Winchester\, KY 40391
UID:e.1926.22585
SEQUENCE:3
DTSTAMP:20260423T093708Z
URL:https://business.winchesterkychamber.com/events/details/live-music-with-lauren-mink-and-dale-adams-08-27-2023-22585
END:VEVENT

END:VCALENDAR
