BEGIN:VCALENDAR
VERSION:2.0
PRODID:-//ChamberMaster//Event Calendar 2.0//EN
METHOD:PUBLISH
X-PUBLISHED-TTL:P3D
REFRESH-INTERVAL:P3D
CALSCALE:GREGORIAN
BEGIN:VEVENT
DTSTART:20211113T230000Z
DTEND:20211114T020000Z
X-MICROSOFT-CDO-ALLDAYEVENT:FALSE
SUMMARY:Live Music by Station 22 1/2
DESCRIPTION:Welcome Station 22 1/2! Erin and Mike will be rocking the house with rock\, soul and blues music from the 60's\, 70's\, 80's and 90's.
X-ALT-DESC;FMTTYPE=text/html:<span style="color: rgb(5\, 5\, 5)\; font-family: &quot\;Segoe UI Historic&quot\;\, &quot\;Segoe UI&quot\;\, Helvetica\, Arial\, sans-serif\; font-size: 15px\; background-color: rgb(255\, 255\, 255)\;">Welcome Station 22 1/2! Erin and Mike will be rocking the house with rock\, soul and blues music from the 60&rsquo\;s\, 70&rsquo\;s\, 80&rsquo\;s and 90&rsquo\;s.</span>
LOCATION:The Engine House Pizza Pub 9 West Lexington Avenue Winchester KY 40391
UID:e.1926.19285
SEQUENCE:3
DTSTAMP:20260426T023726Z
URL:https://business.winchesterkychamber.com/events/details/live-music-by-station-22-1-2-19285
END:VEVENT

END:VCALENDAR
