BEGIN:VCALENDAR
VERSION:2.0
PRODID:-//ChamberMaster//Event Calendar 2.0//EN
METHOD:PUBLISH
X-PUBLISHED-TTL:P3D
REFRESH-INTERVAL:P3D
CALSCALE:GREGORIAN
BEGIN:VEVENT
DTSTART;VALUE=DATE:20211127
DTEND;VALUE=DATE:20211128
TRANSP:TRANSPARENT
X-MICROSOFT-CDO-ALLDAYEVENT:TRUE
SUMMARY:Live Music by Perry Williams at the Engine House Pizza Pub
DESCRIPTION:Thanksgiving can be tough. C'mon down and relax with is and listen to Perry Williams play some tunes!
X-ALT-DESC;FMTTYPE=text/html:<span style="color: rgb(5\, 5\, 5)\; font-family: &quot\;Segoe UI Historic&quot\;\, &quot\;Segoe UI&quot\;\, Helvetica\, Arial\, sans-serif\; font-size: 15px\; background-color: rgb(255\, 255\, 255)\;">Thanksgiving can be tough. C&rsquo\;mon down and relax with is and listen to Perry Williams play some tunes!</span>
LOCATION:The Engine House Pizza Pub 9 West Lexington Avenue Winchester KY 40391
UID:e.1926.19288
SEQUENCE:3
DTSTAMP:20260426T024448Z
URL:https://business.winchesterkychamber.com/events/details/live-music-by-perry-williams-at-the-engine-house-pizza-pub-19288
END:VEVENT

END:VCALENDAR
