BEGIN:VCALENDAR
VERSION:2.0
PRODID:-//ChamberMaster//Event Calendar 2.0//EN
METHOD:PUBLISH
X-PUBLISHED-TTL:P3D
REFRESH-INTERVAL:P3D
CALSCALE:GREGORIAN
BEGIN:VEVENT
DTSTART:20230825T233000Z
DTEND:20230827T183000Z
X-MICROSOFT-CDO-ALLDAYEVENT:FALSE
SUMMARY:Leeds Center for the Arts presents: MATILDA
DESCRIPTION:The story of an extraordinary girl who dares to take a stand and change her own destiny! Roald Dahl's heroine might be small\, but she stands up to bullies and fights for what's right\, while having plenty of fun along the way.\n\nClever Matilda Wormwood is unappreciated by her shallow family\, but when she attends an unusual school\, she finds a new ally\, teacher Miss Honey\, and a fearsome foe\, headmistress Miss Trunchbull. Handily\, our heroine has some special skills. One is magical\, the gift of telekinesis\, but she also realizes the power of storytelling   and so does this incredible production.
X-ALT-DESC;FMTTYPE=text/html:<p style="margin: 0px\; padding: 0px\; box-sizing: border-box\; color: rgb(111\, 114\, 135)\; font-size: 16px\; line-height: 1.5rem\; font-family: &quot\;Neue Plak&quot\;\, -apple-system\, BlinkMacSystemFont\, Roboto\, &quot\;Helvetica Neue&quot\;\, Helvetica\, Tahoma\, Arial\, sans-serif\;">The story of an extraordinary girl who dares to take a stand and change her own destiny! Roald Dahl&rsquo\;s heroine might be small\, but she stands up to bullies and fights for what&rsquo\;s right\, while having plenty of fun along the way.</p>\n\n<p style="margin: 0px\; padding: 10px 0px 0px\; box-sizing: border-box\; color: rgb(111\, 114\, 135)\; font-size: 16px\; line-height: 1.5rem\; font-family: &quot\;Neue Plak&quot\;\, -apple-system\, BlinkMacSystemFont\, Roboto\, &quot\;Helvetica Neue&quot\;\, Helvetica\, Tahoma\, Arial\, sans-serif\;">Clever Matilda Wormwood is unappreciated by her shallow family\, but when she attends an unusual school\, she finds a new ally\, teacher Miss Honey\, and a fearsome foe\, headmistress Miss Trunchbull. Handily\, our heroine has some special skills. One is magical\, the gift of telekinesis\, but she also realizes the power of storytelling &ndash\; and so does this incredible production.</p>\n
LOCATION:Leeds Center for the Arts 37 North Main Street Winchester\, KY
UID:e.1926.23213
SEQUENCE:3
DTSTAMP:20260423T093252Z
URL:https://business.winchesterkychamber.com/events/details/leeds-center-for-the-arts-presents-matilda-23213
END:VEVENT

END:VCALENDAR
