BEGIN:VCALENDAR
VERSION:2.0
PRODID:-//ChamberMaster//Event Calendar 2.0//EN
METHOD:PUBLISH
X-PUBLISHED-TTL:P3D
REFRESH-INTERVAL:P3D
CALSCALE:GREGORIAN
BEGIN:VEVENT
DTSTART:20241004T150000Z
DTEND:20241004T180000Z
X-MICROSOFT-CDO-ALLDAYEVENT:FALSE
SUMMARY:Hospice East Annual Soup Bean Lunch Fundraiser
DESCRIPTION:Hospice East Annual Soup Bean Lunch Fundraiser\n\nFriday October 4\, 2024 from 11 a.m. - 2 p.m.\n\n407 Shoppers Drive\, Winchester\, KY 40391\n\nDine In\, Take Out\, or Delivery \n\n$7 meal includes soup beans\, cornbread\, onions\, cookie and choice of Ale8 or bottled water\n\nPhone: 859-744-9866\n\nFax: 859-744-1971
X-ALT-DESC;FMTTYPE=text/html:Hospice East Annual Soup Bean Lunch Fundraiser<br />\nFriday October 4\, 2024 from 11 a.m. - 2 p.m.<br />\n407 Shoppers Drive\, Winchester\, KY 40391<br />\nDine In\, Take Out\, or Delivery&nbsp\;<br />\n$7 meal includes soup beans\, cornbread\, onions\, cookie and choice of Ale8 or bottled water<br />\nPhone: 859-744-9866<br />\nFax: 859-744-1971
LOCATION:Hospice East 407 Shoppers Drive Winchester\, KY 40391
UID:e.1926.24432
SEQUENCE:3
DTSTAMP:20260425T211920Z
URL:https://business.winchesterkychamber.com/events/details/hospice-east-annual-soup-bean-lunch-fundraiser-10-04-2024-24432
END:VEVENT

END:VCALENDAR
