BEGIN:VCALENDAR
VERSION:2.0
PRODID:-//ChamberMaster//Event Calendar 2.0//EN
METHOD:PUBLISH
X-PUBLISHED-TTL:P3D
REFRESH-INTERVAL:P3D
CALSCALE:GREGORIAN
BEGIN:VEVENT
DTSTART:20211114T180000Z
DTEND:20211114T193000Z
X-MICROSOFT-CDO-ALLDAYEVENT:FALSE
SUMMARY:Harvest Cookie Decorating and Wine Class
DESCRIPTION:Join us at the beautiful Harkness Edwards Vineyard for a fun afternoon of learning the basics of the royal icing technique! Kick off your fall festivities with 6 harvest themed cookies decorated by you with guided instruction step by step. Class ticket includes one glass of wine provided by Harkness Edwards Vineyards. Class is located in the Peach House in the class room up the stairs on the right. *If you are unable to attend your class time and date\, please note NO REFUNDS will be given\, however your ticket can be applied to another class date and time.
X-ALT-DESC;FMTTYPE=text/html:Join us at the beautiful Harkness Edwards Vineyard for a fun afternoon of learning the basics of the royal icing technique! Kick off your fall festivities with 6 harvest themed cookies decorated by you with guided instruction step by step. Class ticket includes one glass of wine provided by Harkness Edwards Vineyards. Class is located in the Peach House in the class room up the stairs on the right. *If you are unable to attend your class time and date\, please note NO REFUNDS will be given\, however your ticket can be applied to another class date and time.
LOCATION:Harkness Edwards Vineyards 5199 Combs Ferry Road Winchester KY 40391
UID:e.1926.19219
SEQUENCE:3
DTSTAMP:20260426T023530Z
URL:https://business.winchesterkychamber.com/events/details/harvest-cookie-decorating-and-wine-class-19219
END:VEVENT

END:VCALENDAR
