BEGIN:VCALENDAR
VERSION:2.0
PRODID:-//ChamberMaster//Event Calendar 2.0//EN
METHOD:PUBLISH
X-PUBLISHED-TTL:P3D
REFRESH-INTERVAL:P3D
CALSCALE:GREGORIAN
BEGIN:VEVENT
DTSTART:20211112T230000Z
DTEND:20211113T003000Z
X-MICROSOFT-CDO-ALLDAYEVENT:FALSE
SUMMARY:Harkness Edwards Vineyards - Cake Pop and Wine Class
DESCRIPTION:Join us at the beautiful Harkness Edwards Vineyards for a fun afternoon of learning the art of cake pop making! Impress your guest with a dozen pumpkin flavored cake pops made and decorated by you with guided instruction step by step. Class ticket includes one glass of wine provided by Harkness Edwards Vineyards! Class is located in the Peach House in the class room up the stairs on the right. *If you are unable to attend your class time and date\, please note NO REFUNDS will be given\, however your ticket can be applied to another class date and time. ** (flavor can be substituted if you contact me when purchasing ticket)
X-ALT-DESC;FMTTYPE=text/html:Join us at the beautiful Harkness Edwards Vineyards for a fun afternoon of learning the art of cake pop making! Impress your guest with a dozen pumpkin flavored cake pops made and decorated by you with guided instruction step by step. Class ticket includes one glass of wine provided by Harkness Edwards Vineyards! Class is located in the Peach House in the class room up the stairs on the right. *If you are unable to attend your class time and date\, please note NO REFUNDS will be given\, however your ticket can be applied to another class date and time. ** (flavor can be substituted if you contact me when purchasing ticket)
LOCATION:Harkness Edwards Vineyards 5199 Combs Ferry Road Winchester KY 40391
UID:e.1926.19213
SEQUENCE:3
DTSTAMP:20260426T040335Z
URL:https://business.winchesterkychamber.com/events/details/harkness-edwards-vineyards-cake-pop-and-wine-class-19213
END:VEVENT

END:VCALENDAR
