BEGIN:VCALENDAR
VERSION:2.0
PRODID:-//ChamberMaster//Event Calendar 2.0//EN
METHOD:PUBLISH
X-PUBLISHED-TTL:P3D
REFRESH-INTERVAL:P3D
CALSCALE:GREGORIAN
BEGIN:VEVENT
DTSTART:20211113T170000Z
DTEND:20211113T230000Z
X-MICROSOFT-CDO-ALLDAYEVENT:FALSE
SUMMARY:Harkness Edward's Vineyards - Wine Club Open House
DESCRIPTION:Wine Clubbers get first dibs on our entire gift shop!\n\n\n\nClub Members will enjoy 20 percent off while sipping on cocktails and paroozing all of our holiday gifts. All day long!\n\n\n\nNot a club member? Not a problem! It is not too late to sign up! Click the link below to sign up and unlock early access and deals for your holiday season!\n\n\n\nhttps://www.harknessedwardsvineyards.com/clubs
X-ALT-DESC;FMTTYPE=text/html:Wine Clubbers get first dibs on our entire gift shop!<br background-color:="" font-size:="" libre="" />\n<br background-color:="" font-size:="" libre="" />\nClub Members will enjoy 20 percent off&nbsp\;while sipping on cocktails and paroozing all of our holiday gifts. All day long!<br background-color:="" font-size:="" libre="" />\n<br background-color:="" font-size:="" libre="" />\nNot a club member? Not a problem! It is not too late to sign up! Click the link below to sign up and unlock early access and deals for your holiday season!<br />\n<br />\n<span style="font-size:14px\;"><span style="font-family:arial\;"><a href="https://www.harknessedwardsvineyards.com/clubs"><span style="color:#000000\;">https://www.harknessedwardsvineyards.com/clubs</span></a></span></span>
LOCATION:Harkness Edwards Vineyards 5199 Combs Ferry Road Winchester KY 40391
UID:e.1926.19263
SEQUENCE:3
DTSTAMP:20260426T041348Z
URL:https://business.winchesterkychamber.com/events/details/harkness-edward-s-vineyards-wine-club-open-house-19263
END:VEVENT

END:VCALENDAR
