BEGIN:VCALENDAR
VERSION:2.0
PRODID:-//ChamberMaster//Event Calendar 2.0//EN
METHOD:PUBLISH
X-PUBLISHED-TTL:P3D
REFRESH-INTERVAL:P3D
CALSCALE:GREGORIAN
BEGIN:VEVENT
DTSTART:20241026T170000Z
DTEND:20241026T200000Z
X-MICROSOFT-CDO-ALLDAYEVENT:FALSE
SUMMARY:Halloween Linocut
DESCRIPTION:The fine art printmaking technique known as linocut is a variation of Woodcut. Using a sheet of linoleum\, a design is cut into the linoleum's surface with handheld chisels. You can either bring your own designs (2"   2" or smaller\, each) or select any two original designs created by your instructor\, Sara Clarke. Our theme is Hallowe'en. Use these for your greeting cards and mixed media Art Dolls! Space is limited\; please register online.
X-ALT-DESC;FMTTYPE=text/html:The fine art printmaking technique known as linocut is a variation of Woodcut. Using a sheet of linoleum\, a design is cut into the linoleum&#39\;s surface with handheld chisels. You can either bring your own designs (2&quot\; &times\; 2&quot\; or smaller\, each) or select any two original designs created by your instructor\, Sara Clarke. Our theme is Hallowe&#39\;en. Use these for your greeting cards and mixed media Art Dolls! Space is limited\; please register online.
LOCATION:Clark County Public Library 370 S Burns Ave Winchester\, KY
UID:e.1926.24454
SEQUENCE:3
DTSTAMP:20260425T210614Z
URL:https://business.winchesterkychamber.com/events/details/halloween-linocut-24454
END:VEVENT

END:VCALENDAR
