BEGIN:VCALENDAR
VERSION:2.0
PRODID:-//ChamberMaster//Event Calendar 2.0//EN
METHOD:PUBLISH
X-PUBLISHED-TTL:P3D
REFRESH-INTERVAL:P3D
CALSCALE:GREGORIAN
BEGIN:VEVENT
DTSTART:20241031T140000Z
DTEND:20241031T150000Z
X-MICROSOFT-CDO-ALLDAYEVENT:FALSE
SUMMARY:Halloween Children's Story Time
DESCRIPTION:Enjoy books\, music\, movement\, and play in this interactive story time for babies\, toddlers\, preschoolers and their caregivers! Costumes encouraged for Halloween!
X-ALT-DESC;FMTTYPE=text/html:Enjoy books\, music\, movement\, and play in this interactive story time for babies\, toddlers\, preschoolers and their caregivers! Costumes encouraged for Halloween!
LOCATION:Clark County Public Library 370 S Burns Ave Winchester\, KY
UID:e.1926.24464
SEQUENCE:3
DTSTAMP:20260425T210932Z
URL:https://business.winchesterkychamber.com/events/details/halloween-children-s-story-time-24464
END:VEVENT

END:VCALENDAR
