BEGIN:VCALENDAR
VERSION:2.0
PRODID:-//ChamberMaster//Event Calendar 2.0//EN
METHOD:PUBLISH
X-PUBLISHED-TTL:P3D
REFRESH-INTERVAL:P3D
CALSCALE:GREGORIAN
BEGIN:VEVENT
DTSTART:20211127T150000Z
DTEND:20211127T220000Z
X-MICROSOFT-CDO-ALLDAYEVENT:FALSE
SUMMARY:Haggard's Flower House - House Warming
DESCRIPTION:20 % off Storewide\n\nJoin us\, bring a friend and embrace the spirit of the season at our Holiday Open House.
X-ALT-DESC;FMTTYPE=text/html:20 % off Storewide<br />\nJoin us\, bring a friend and embrace the spirit of the season at our Holiday Open House.
LOCATION:865 ByPass Rd Winchester Ky 40391 Adjacent to Gaunce's
UID:e.1926.19291
SEQUENCE:3
DTSTAMP:20260426T024158Z
URL:https://business.winchesterkychamber.com/events/details/haggard-s-flower-house-house-warming-19291
END:VEVENT

END:VCALENDAR
