BEGIN:VCALENDAR
VERSION:2.0
PRODID:-//ChamberMaster//Event Calendar 2.0//EN
METHOD:PUBLISH
X-PUBLISHED-TTL:P3D
REFRESH-INTERVAL:P3D
CALSCALE:GREGORIAN
BEGIN:VEVENT
DTSTART:20221126T150000Z
DTEND:20221126T210000Z
X-MICROSOFT-CDO-ALLDAYEVENT:FALSE
SUMMARY:Beech Springs Christmas Market
DESCRIPTION:Get ready for the Christmas season by joining us for our 4th annual Christmas market. We are currently working on filling up over 60 vendor spots. These vendors are local and range from arts and crafts\, food\, sweets\, clothing\, and more.\n\nBell on Wheels is back to keep you fed. Harkness Edwards\, Abettor Brewery\, and Creative Coffees Roastery will be there to help you if you get thirsty! And so so many more that we will highlight later!\n\nThis is an outdoor and FREE event!\n\nOnce again Forest Grove Christian Church and JK's Cafe as letting us use their parking lots for extra parking!\n\nMore details to come as we get closer! Mark your calendars for this awesome event!
X-ALT-DESC;FMTTYPE=text/html:<div class="xdj266r x11i5rnm xat24cr x1mh8g0r x1vvkbs" style="margin: 0px\; overflow-wrap: break-word\; font-family: &quot\;Segoe UI Historic&quot\;\, &quot\;Segoe UI&quot\;\, Helvetica\, Arial\, sans-serif\; color: rgb(5\, 5\, 5)\; font-size: 15px\;">Get ready for the Christmas season by joining us for our 4th annual Christmas market. We are currently working on filling up over 60 vendor spots. These vendors are local and range from arts and crafts\, food\, sweets\, clothing\, and more.</div>\n\n<div class="x11i5rnm xat24cr x1mh8g0r x1vvkbs xtlvy1s" style="margin: 0.5em 0px 0px\; overflow-wrap: break-word\; font-family: &quot\;Segoe UI Historic&quot\;\, &quot\;Segoe UI&quot\;\, Helvetica\, Arial\, sans-serif\; color: rgb(5\, 5\, 5)\; font-size: 15px\;">Bell on Wheels is back to keep you fed. Harkness Edwards\, Abettor Brewery\, and Creative Coffees Roastery will be there to help you if you get thirsty! And so so many more that we will highlight later!</div>\n\n<div class="x11i5rnm xat24cr x1mh8g0r x1vvkbs xtlvy1s" style="margin: 0.5em 0px 0px\; overflow-wrap: break-word\; font-family: &quot\;Segoe UI Historic&quot\;\, &quot\;Segoe UI&quot\;\, Helvetica\, Arial\, sans-serif\; color: rgb(5\, 5\, 5)\; font-size: 15px\;">This is an outdoor and FREE event!</div>\n\n<div class="x11i5rnm xat24cr x1mh8g0r x1vvkbs xtlvy1s" style="margin: 0.5em 0px 0px\; overflow-wrap: break-word\; font-family: &quot\;Segoe UI Historic&quot\;\, &quot\;Segoe UI&quot\;\, Helvetica\, Arial\, sans-serif\; color: rgb(5\, 5\, 5)\; font-size: 15px\;">Once again Forest Grove Christian Church and JK&#39\;s Cafe as letting us use their parking lots for extra parking!</div>\n\n<div class="x11i5rnm xat24cr x1mh8g0r x1vvkbs xtlvy1s" style="margin: 0.5em 0px 0px\; overflow-wrap: break-word\; font-family: &quot\;Segoe UI Historic&quot\;\, &quot\;Segoe UI&quot\;\, Helvetica\, Arial\, sans-serif\; color: rgb(5\, 5\, 5)\; font-size: 15px\;">More details to come as we get closer! Mark your calendars for this awesome event!</div>\n
LOCATION:Beech Springs Farm Market 4776 Old Boonesboro Road Winchester\, KY
UID:e.1926.21645
SEQUENCE:3
DTSTAMP:20260422T170010Z
URL:https://business.winchesterkychamber.com/events/details/beech-springs-christmas-market-21645
END:VEVENT

END:VCALENDAR
