BEGIN:VCALENDAR
VERSION:2.0
PRODID:-//ChamberMaster//Event Calendar 2.0//EN
METHOD:PUBLISH
X-PUBLISHED-TTL:P3D
REFRESH-INTERVAL:P3D
CALSCALE:GREGORIAN
BEGIN:VEVENT
DTSTART:20230810T213000Z
DTEND:20230811T010000Z
X-MICROSOFT-CDO-ALLDAYEVENT:FALSE
SUMMARY:2023 Winchester Clark County Chamber of Commerce Annual Banquet
DESCRIPTION:Chamber Annual Banquet celebrating our members and honoring citizens of Winchester Clark County
X-ALT-DESC;FMTTYPE=text/html:Chamber Annual Banquet celebrating our members and honoring citizens of Winchester Clark County
LOCATION:Bluegrass and Community and Technical College
UID:e.1926.22560
SEQUENCE:3
DTSTAMP:20260423T093550Z
URL:https://business.winchesterkychamber.com/events/details/2023-winchester-clark-county-chamber-of-commerce-annual-banquet-22560
END:VEVENT

END:VCALENDAR
